BEGIN:VCALENDAR
VERSION:2.0
PRODID:-//jEvents 2.0 for Joomla//EN
CALSCALE:GREGORIAN
METHOD:PUBLISH
BEGIN:VTIMEZONE
TZID:Europe/Vienna
BEGIN:STANDARD
DTSTART:20230112T123000
RDATE:20230326T030000
TZOFFSETFROM:+0200
TZOFFSETTO:+0100
TZNAME:Europe/Vienna CET
END:STANDARD
BEGIN:STANDARD
DTSTART:20231029T020000
RDATE:20240331T030000
TZOFFSETFROM:+0200
TZOFFSETTO:+0100
TZNAME:Europe/Vienna CET
END:STANDARD
BEGIN:STANDARD
DTSTART:20241027T020000
RDATE:20250330T030000
TZOFFSETFROM:+0200
TZOFFSETTO:+0100
TZNAME:Europe/Vienna CET
END:STANDARD
BEGIN:STANDARD
DTSTART:20251026T020000
RDATE:20260329T030000
TZOFFSETFROM:+0200
TZOFFSETTO:+0100
TZNAME:Europe/Vienna CET
END:STANDARD
BEGIN:STANDARD
DTSTART:20261025T020000
RDATE:20270328T030000
TZOFFSETFROM:+0200
TZOFFSETTO:+0100
TZNAME:Europe/Vienna CET
END:STANDARD
BEGIN:STANDARD
DTSTART:20271031T020000
RDATE:20280326T030000
TZOFFSETFROM:+0200
TZOFFSETTO:+0100
TZNAME:Europe/Vienna CET
END:STANDARD
BEGIN:STANDARD
DTSTART:20281029T020000
RDATE:20290325T030000
TZOFFSETFROM:+0200
TZOFFSETTO:+0100
TZNAME:Europe/Vienna CET
END:STANDARD
BEGIN:STANDARD
DTSTART:20291028T020000
RDATE:20300331T030000
TZOFFSETFROM:+0200
TZOFFSETTO:+0100
TZNAME:Europe/Vienna CET
END:STANDARD
BEGIN:STANDARD
DTSTART:20301027T020000
RDATE:20310330T030000
TZOFFSETFROM:+0200
TZOFFSETTO:+0100
TZNAME:Europe/Vienna CET
END:STANDARD
BEGIN:STANDARD
DTSTART:20311026T020000
RDATE:20320328T030000
TZOFFSETFROM:+0200
TZOFFSETTO:+0100
TZNAME:Europe/Vienna CET
END:STANDARD
BEGIN:DAYLIGHT
DTSTART:20230326T030000
RDATE:20231029T020000
TZOFFSETFROM:+0100
TZOFFSETTO:+0200
TZNAME:Europe/Vienna CEST
END:DAYLIGHT
BEGIN:DAYLIGHT
DTSTART:20240331T030000
RDATE:20241027T020000
TZOFFSETFROM:+0100
TZOFFSETTO:+0200
TZNAME:Europe/Vienna CEST
END:DAYLIGHT
BEGIN:DAYLIGHT
DTSTART:20250330T030000
RDATE:20251026T020000
TZOFFSETFROM:+0100
TZOFFSETTO:+0200
TZNAME:Europe/Vienna CEST
END:DAYLIGHT
BEGIN:DAYLIGHT
DTSTART:20260329T030000
RDATE:20261025T020000
TZOFFSETFROM:+0100
TZOFFSETTO:+0200
TZNAME:Europe/Vienna CEST
END:DAYLIGHT
BEGIN:DAYLIGHT
DTSTART:20270328T030000
RDATE:20271031T020000
TZOFFSETFROM:+0100
TZOFFSETTO:+0200
TZNAME:Europe/Vienna CEST
END:DAYLIGHT
BEGIN:DAYLIGHT
DTSTART:20280326T030000
RDATE:20281029T020000
TZOFFSETFROM:+0100
TZOFFSETTO:+0200
TZNAME:Europe/Vienna CEST
END:DAYLIGHT
BEGIN:DAYLIGHT
DTSTART:20290325T030000
RDATE:20291028T020000
TZOFFSETFROM:+0100
TZOFFSETTO:+0200
TZNAME:Europe/Vienna CEST
END:DAYLIGHT
BEGIN:DAYLIGHT
DTSTART:20300331T030000
RDATE:20301027T020000
TZOFFSETFROM:+0100
TZOFFSETTO:+0200
TZNAME:Europe/Vienna CEST
END:DAYLIGHT
BEGIN:DAYLIGHT
DTSTART:20310330T030000
RDATE:20311026T020000
TZOFFSETFROM:+0100
TZOFFSETTO:+0200
TZNAME:Europe/Vienna CEST
END:DAYLIGHT
END:VTIMEZONE
BEGIN:VEVENT
UID:c88697699b63b980029057267a4a1e7d
CATEGORIES:Standard
CREATED:20231113T090145
SUMMARY:Ortsmeisterschaft Stockschießen
LOCATION:Grein bei Stockhalle
DESCRIPTION:Kontakt\nFraundorfer Fritz\nTelefonnummer: 0680/ 24 34 100\nE-Mail: Diese E
 -Mail-Adresse ist vor Spambots geschützt! Zur Anzeige muss JavaScript einge
 schaltet sein!
				document.getElementById('cloaka707174590022fdc4d6a020dfc
 285044').innerHTML = '';
				var prefix = '&#109;a' + 'i&#108;' + '&#116;o'
 ;
				var path = 'hr' + 'ef' + '=';
				var addya707174590022fdc4d6a020dfc2
 85044 = 'fr&#105;tzfr&#97;&#117;nd&#111;rf&#101;r' + '&#64;';
				addya7071
 74590022fdc4d6a020dfc285044 = addya707174590022fdc4d6a020dfc285044 + 'gm&#9
 7;&#105;l' + '&#46;' + 'c&#111;m';
				var addy_texta707174590022fdc4d6a020
 dfc285044 = 'fr&#105;tzfr&#97;&#117;nd&#111;rf&#101;r' + '&#64;' + 'gm&#97;
 &#105;l' + '&#46;' + 'c&#111;m';document.getElementById('cloaka707174590022
 fdc4d6a020dfc285044').innerHTML += '<a ' + path + '\'' + prefix + ':' + add
 ya707174590022fdc4d6a020dfc285044 + '\'>'+addy_texta707174590022fdc4d6a020d
 fc285044+'';
		\n
X-ALT-DESC;FMTTYPE=text/html:<p><strong>Kontakt</strong></p><p>Fraundorfer Fritz</p><p>Telefonnummer: 06
 80/ 24 34 100</p><p>E-Mail: <span id="cloaka707174590022fdc4d6a020dfc285044
 ">Diese E-Mail-Adresse ist vor Spambots geschützt! Zur Anzeige muss JavaScr
 ipt eingeschaltet sein!</span><script type='text/javascript'>
				document.
 getElementById('cloaka707174590022fdc4d6a020dfc285044').innerHTML = '';
			
 	var prefix = '&#109;a' + 'i&#108;' + '&#116;o';
				var path = 'hr' + 'ef'
  + '=';
				var addya707174590022fdc4d6a020dfc285044 = 'fr&#105;tzfr&#97;&#
 117;nd&#111;rf&#101;r' + '&#64;';
				addya707174590022fdc4d6a020dfc285044 
 = addya707174590022fdc4d6a020dfc285044 + 'gm&#97;&#105;l' + '&#46;' + 'c&#1
 11;m';
				var addy_texta707174590022fdc4d6a020dfc285044 = 'fr&#105;tzfr&#9
 7;&#117;nd&#111;rf&#101;r' + '&#64;' + 'gm&#97;&#105;l' + '&#46;' + 'c&#111
 ;m';document.getElementById('cloaka707174590022fdc4d6a020dfc285044').innerH
 TML += '<a ' + path + '\'' + prefix + ':' + addya707174590022fdc4d6a020dfc2
 85044 + '\'>'+addy_texta707174590022fdc4d6a020dfc285044+'<\/a>';
		</script
 ></p>
X-EXTRAINFO:Anmeldung bis 06.01.2024
DTSTAMP:20260422T130203
DTSTART;TZID=Europe/Vienna:20240113T123000
SEQUENCE:0
TRANSP:OPAQUE
END:VEVENT
END:VCALENDAR