BEGIN:VCALENDAR
VERSION:2.0
PRODID:-//jEvents 2.0 for Joomla//EN
CALSCALE:GREGORIAN
METHOD:PUBLISH
BEGIN:VTIMEZONE
TZID:Europe/Vienna
BEGIN:STANDARD
DTSTART:20251026T020000
RDATE:20260329T030000
TZOFFSETFROM:+0200
TZOFFSETTO:+0100
TZNAME:Europe/Vienna CET
END:STANDARD
BEGIN:STANDARD
DTSTART:20261025T020000
RDATE:20270328T030000
TZOFFSETFROM:+0200
TZOFFSETTO:+0100
TZNAME:Europe/Vienna CET
END:STANDARD
BEGIN:STANDARD
DTSTART:20271031T020000
RDATE:20280326T030000
TZOFFSETFROM:+0200
TZOFFSETTO:+0100
TZNAME:Europe/Vienna CET
END:STANDARD
BEGIN:STANDARD
DTSTART:20281029T020000
RDATE:20290325T030000
TZOFFSETFROM:+0200
TZOFFSETTO:+0100
TZNAME:Europe/Vienna CET
END:STANDARD
BEGIN:STANDARD
DTSTART:20291028T020000
RDATE:20300331T030000
TZOFFSETFROM:+0200
TZOFFSETTO:+0100
TZNAME:Europe/Vienna CET
END:STANDARD
BEGIN:STANDARD
DTSTART:20301027T020000
RDATE:20310330T030000
TZOFFSETFROM:+0200
TZOFFSETTO:+0100
TZNAME:Europe/Vienna CET
END:STANDARD
BEGIN:STANDARD
DTSTART:20311026T020000
RDATE:20320328T030000
TZOFFSETFROM:+0200
TZOFFSETTO:+0100
TZNAME:Europe/Vienna CET
END:STANDARD
BEGIN:DAYLIGHT
DTSTART:20250410T190000
RDATE:20251026T020000
TZOFFSETFROM:+0100
TZOFFSETTO:+0200
TZNAME:Europe/Vienna CEST
END:DAYLIGHT
BEGIN:DAYLIGHT
DTSTART:20260329T030000
RDATE:20261025T020000
TZOFFSETFROM:+0100
TZOFFSETTO:+0200
TZNAME:Europe/Vienna CEST
END:DAYLIGHT
BEGIN:DAYLIGHT
DTSTART:20270328T030000
RDATE:20271031T020000
TZOFFSETFROM:+0100
TZOFFSETTO:+0200
TZNAME:Europe/Vienna CEST
END:DAYLIGHT
BEGIN:DAYLIGHT
DTSTART:20280326T030000
RDATE:20281029T020000
TZOFFSETFROM:+0100
TZOFFSETTO:+0200
TZNAME:Europe/Vienna CEST
END:DAYLIGHT
BEGIN:DAYLIGHT
DTSTART:20290325T030000
RDATE:20291028T020000
TZOFFSETFROM:+0100
TZOFFSETTO:+0200
TZNAME:Europe/Vienna CEST
END:DAYLIGHT
BEGIN:DAYLIGHT
DTSTART:20300331T030000
RDATE:20301027T020000
TZOFFSETFROM:+0100
TZOFFSETTO:+0200
TZNAME:Europe/Vienna CEST
END:DAYLIGHT
BEGIN:DAYLIGHT
DTSTART:20310330T030000
RDATE:20311026T020000
TZOFFSETFROM:+0100
TZOFFSETTO:+0200
TZNAME:Europe/Vienna CEST
END:DAYLIGHT
END:VTIMEZONE
BEGIN:VEVENT
UID:5fcd253f7748d2435e4f3c150de1f235
CATEGORIES:Standard
CREATED:20260316T141347
SUMMARY:Engel - Die Botschafter des Himmels
LOCATION:Pfarrkirche Baumgartenberg
DESCRIPTION:Mit Mag. Marha M. Leonhartsberger und Gerhard Schwandl\nWir betrachten die 
 theologeschen, architektonischen und künstlerischen Aspekte der Engel unser
 er Kirche.\nStaunen Sie über Besonderheiten und Perspektiven\nEs musizieren
 : Verena Aigner, Verena Kastner, Julian Grabmann, Harald Buchner\nIm Anschl
 uss laden wir zur Agape und zur Ausstellung "Engel aus Baumgartenberg" in d
 en Chorumgang.\n(Auch zu besichtigen am Sonntag, 12. April nach dem Gottesd
 ienst)\n \n
X-ALT-DESC;FMTTYPE=text/html:<p>Mit Mag. Marha M. Leonhartsberger und Gerhard Schwandl</p><p>Wir betrach
 ten die theologeschen, architektonischen und künstlerischen Aspekte der Eng
 el unserer Kirche.</p><p>Staunen Sie über Besonderheiten und Perspektiven</
 p><p>Es musizieren: Verena Aigner, Verena Kastner, Julian Grabmann, Harald 
 Buchner</p><p>Im Anschluss laden wir zur Agape und zur Ausstellung "Engel a
 us Baumgartenberg" in den Chorumgang.</p><p>(Auch zu besichtigen am Sonntag
 , 12. April nach dem Gottesdienst)</p><p>&nbsp;</p>
CONTACT:Pfarrgemeinde Baumgartenberg
DTSTAMP:20260422T141753
DTSTART;TZID=Europe/Vienna:20260411T190000
SEQUENCE:0
TRANSP:OPAQUE
END:VEVENT
END:VCALENDAR