BEGIN:VCALENDAR
VERSION:2.0
PRODID:-//jEvents 2.0 for Joomla//EN
CALSCALE:GREGORIAN
METHOD:PUBLISH
BEGIN:VTIMEZONE
TZID:Europe/Vienna
BEGIN:STANDARD
DTSTART:20251026T020000
RDATE:20260329T030000
TZOFFSETFROM:+0200
TZOFFSETTO:+0100
TZNAME:Europe/Vienna CET
END:STANDARD
BEGIN:STANDARD
DTSTART:20261025T020000
RDATE:20270328T030000
TZOFFSETFROM:+0200
TZOFFSETTO:+0100
TZNAME:Europe/Vienna CET
END:STANDARD
BEGIN:STANDARD
DTSTART:20271031T020000
RDATE:20280326T030000
TZOFFSETFROM:+0200
TZOFFSETTO:+0100
TZNAME:Europe/Vienna CET
END:STANDARD
BEGIN:STANDARD
DTSTART:20281029T020000
RDATE:20290325T030000
TZOFFSETFROM:+0200
TZOFFSETTO:+0100
TZNAME:Europe/Vienna CET
END:STANDARD
BEGIN:STANDARD
DTSTART:20291028T020000
RDATE:20300331T030000
TZOFFSETFROM:+0200
TZOFFSETTO:+0100
TZNAME:Europe/Vienna CET
END:STANDARD
BEGIN:STANDARD
DTSTART:20301027T020000
RDATE:20310330T030000
TZOFFSETFROM:+0200
TZOFFSETTO:+0100
TZNAME:Europe/Vienna CET
END:STANDARD
BEGIN:STANDARD
DTSTART:20311026T020000
RDATE:20320328T030000
TZOFFSETFROM:+0200
TZOFFSETTO:+0100
TZNAME:Europe/Vienna CET
END:STANDARD
BEGIN:DAYLIGHT
DTSTART:20250414T160000
RDATE:20251026T020000
TZOFFSETFROM:+0100
TZOFFSETTO:+0200
TZNAME:Europe/Vienna CEST
END:DAYLIGHT
BEGIN:DAYLIGHT
DTSTART:20260329T030000
RDATE:20261025T020000
TZOFFSETFROM:+0100
TZOFFSETTO:+0200
TZNAME:Europe/Vienna CEST
END:DAYLIGHT
BEGIN:DAYLIGHT
DTSTART:20270328T030000
RDATE:20271031T020000
TZOFFSETFROM:+0100
TZOFFSETTO:+0200
TZNAME:Europe/Vienna CEST
END:DAYLIGHT
BEGIN:DAYLIGHT
DTSTART:20280326T030000
RDATE:20281029T020000
TZOFFSETFROM:+0100
TZOFFSETTO:+0200
TZNAME:Europe/Vienna CEST
END:DAYLIGHT
BEGIN:DAYLIGHT
DTSTART:20290325T030000
RDATE:20291028T020000
TZOFFSETFROM:+0100
TZOFFSETTO:+0200
TZNAME:Europe/Vienna CEST
END:DAYLIGHT
BEGIN:DAYLIGHT
DTSTART:20300331T030000
RDATE:20301027T020000
TZOFFSETFROM:+0100
TZOFFSETTO:+0200
TZNAME:Europe/Vienna CEST
END:DAYLIGHT
BEGIN:DAYLIGHT
DTSTART:20310330T030000
RDATE:20311026T020000
TZOFFSETFROM:+0100
TZOFFSETTO:+0200
TZNAME:Europe/Vienna CEST
END:DAYLIGHT
END:VTIMEZONE
BEGIN:VEVENT
UID:d8e55e7f4f76be9c6d95d82b1d939fef
CATEGORIES:Standard
CREATED:20260318T115534
SUMMARY:Nordic Walking 
LOCATION:Spielplatz Baumgartenberg
DESCRIPTION:<p>Ab 15.04.2026, mittwochs, 6x</p><p>Kurskosten: 50.-</p><p>&nbsp;</p><p>A
 nmeldung/Informationen:</p><p>BalanceFit</p><p>Dominik Berger</p><p><a href
 ="https://www.balancefit.at">www.balancefit.at</a></p><p><span id="cloak81a
 12e0520dfa67547cf55970189f011">Diese E-Mail-Adresse ist vor Spambots geschü
 tzt! Zur Anzeige muss JavaScript eingeschaltet sein!</span><script type='te
 xt/javascript'>
				document.getElementById('cloak81a12e0520dfa67547cf55970
 189f011').innerHTML = '';
				var prefix = '&#109;a' + 'i&#108;' + '&#116;o
 ';
				var path = 'hr' + 'ef' + '=';
				var addy81a12e0520dfa67547cf559701
 89f011 = 'b&#101;rg&#101;rd&#111;m&#105;n&#105;k' + '&#64;';
				addy81a12e
 0520dfa67547cf55970189f011 = addy81a12e0520dfa67547cf55970189f011 + 'gmx' +
  '&#46;' + 'n&#101;t';
				var addy_text81a12e0520dfa67547cf55970189f011 = 
 'b&#101;rg&#101;rd&#111;m&#105;n&#105;k' + '&#64;' + 'gmx' + '&#46;' + 'n&#
 101;t';document.getElementById('cloak81a12e0520dfa67547cf55970189f011').inn
 erHTML += '<a ' + path + '\'' + prefix + ':' + addy81a12e0520dfa67547cf5597
 0189f011 + '\'>'+addy_text81a12e0520dfa67547cf55970189f011+'<\/a>';
		</scr
 ipt></p><p>0676-9638398N</p>
CONTACT:www.balancefit.at
DTSTAMP:20260422T142044
DTSTART;TZID=Europe/Vienna:20260415T160000
DTEND;TZID=Europe/Vienna:20260415T164500
SEQUENCE:0
TRANSP:OPAQUE
END:VEVENT
END:VCALENDAR